BEGIN:VCALENDAR
VERSION:2.0
PRODID:-//Creative Word Ministries - ECPv6.15.20//NONSGML v1.0//EN
CALSCALE:GREGORIAN
METHOD:PUBLISH
X-ORIGINAL-URL:https://creative-word.us
X-WR-CALDESC:Events for Creative Word Ministries
REFRESH-INTERVAL;VALUE=DURATION:PT1H
X-Robots-Tag:noindex
X-PUBLISHED-TTL:PT1H
BEGIN:VTIMEZONE
TZID:America/New_York
BEGIN:DAYLIGHT
TZOFFSETFROM:-0500
TZOFFSETTO:-0400
TZNAME:EDT
DTSTART:20250309T070000
END:DAYLIGHT
BEGIN:STANDARD
TZOFFSETFROM:-0400
TZOFFSETTO:-0500
TZNAME:EST
DTSTART:20251102T060000
END:STANDARD
BEGIN:DAYLIGHT
TZOFFSETFROM:-0500
TZOFFSETTO:-0400
TZNAME:EDT
DTSTART:20260308T070000
END:DAYLIGHT
BEGIN:STANDARD
TZOFFSETFROM:-0400
TZOFFSETTO:-0500
TZNAME:EST
DTSTART:20261101T060000
END:STANDARD
BEGIN:DAYLIGHT
TZOFFSETFROM:-0500
TZOFFSETTO:-0400
TZNAME:EDT
DTSTART:20270314T070000
END:DAYLIGHT
BEGIN:STANDARD
TZOFFSETFROM:-0400
TZOFFSETTO:-0500
TZNAME:EST
DTSTART:20271107T060000
END:STANDARD
END:VTIMEZONE
BEGIN:VEVENT
DTSTART;TZID=America/New_York:20260428T180000
DTEND;TZID=America/New_York:20260428T190000
DTSTAMP:20260424T125437
CREATED:20251224T043334Z
LAST-MODIFIED:20260226T022139Z
UID:3303-1777399200-1777402800@creative-word.us
SUMMARY:Lima NY -- Releasing The Anointing class -- Elim Bible College
DESCRIPTION:
URL:https://creative-word.us/cw-event/lima-ny-releasing-the-anointing-class-elim-bible-college-15/
ATTACH;FMTTYPE=image/jpeg:https://creative-word.us/wp-content/uploads/2025/02/IMG_1397.jpeg
END:VEVENT
BEGIN:VEVENT
DTSTART;TZID=America/New_York:20260505T180000
DTEND;TZID=America/New_York:20260505T190000
DTSTAMP:20260424T125437
CREATED:20251224T043425Z
LAST-MODIFIED:20260226T022211Z
UID:3305-1778004000-1778007600@creative-word.us
SUMMARY:Lima NY -- Releasing The Anointing class -- Elim Bible College
DESCRIPTION:
URL:https://creative-word.us/cw-event/lima-ny-releasing-the-anointing-class-elim-bible-college-16/
ATTACH;FMTTYPE=image/jpeg:https://creative-word.us/wp-content/uploads/2025/02/IMG_1397.jpeg
END:VEVENT
BEGIN:VEVENT
DTSTART;TZID=America/New_York:20260512T180000
DTEND;TZID=America/New_York:20260512T190000
DTSTAMP:20260424T125437
CREATED:20251224T043516Z
LAST-MODIFIED:20260226T022304Z
UID:3307-1778608800-1778612400@creative-word.us
SUMMARY:Lima NY -- Releasing The Anointing class -- Elim Bible College
DESCRIPTION:
URL:https://creative-word.us/cw-event/lima-ny-releasing-the-anointing-class-elim-bible-college-17/
ATTACH;FMTTYPE=image/jpeg:https://creative-word.us/wp-content/uploads/2025/02/IMG_1397.jpeg
END:VEVENT
END:VCALENDAR