BEGIN:VCALENDAR
VERSION:2.0
PRODID:-//Creative Word Ministries - ECPv6.15.20//NONSGML v1.0//EN
CALSCALE:GREGORIAN
METHOD:PUBLISH
X-WR-CALNAME:Creative Word Ministries
X-ORIGINAL-URL:https://creative-word.us
X-WR-CALDESC:Events for Creative Word Ministries
REFRESH-INTERVAL;VALUE=DURATION:PT1H
X-Robots-Tag:noindex
X-PUBLISHED-TTL:PT1H
BEGIN:VTIMEZONE
TZID:America/New_York
BEGIN:DAYLIGHT
TZOFFSETFROM:-0500
TZOFFSETTO:-0400
TZNAME:EDT
DTSTART:20240310T070000
END:DAYLIGHT
BEGIN:STANDARD
TZOFFSETFROM:-0400
TZOFFSETTO:-0500
TZNAME:EST
DTSTART:20241103T060000
END:STANDARD
BEGIN:DAYLIGHT
TZOFFSETFROM:-0500
TZOFFSETTO:-0400
TZNAME:EDT
DTSTART:20250309T070000
END:DAYLIGHT
BEGIN:STANDARD
TZOFFSETFROM:-0400
TZOFFSETTO:-0500
TZNAME:EST
DTSTART:20251102T060000
END:STANDARD
BEGIN:DAYLIGHT
TZOFFSETFROM:-0500
TZOFFSETTO:-0400
TZNAME:EDT
DTSTART:20260308T070000
END:DAYLIGHT
BEGIN:STANDARD
TZOFFSETFROM:-0400
TZOFFSETTO:-0500
TZNAME:EST
DTSTART:20261101T060000
END:STANDARD
BEGIN:DAYLIGHT
TZOFFSETFROM:-0500
TZOFFSETTO:-0400
TZNAME:EDT
DTSTART:20270314T070000
END:DAYLIGHT
BEGIN:STANDARD
TZOFFSETFROM:-0400
TZOFFSETTO:-0500
TZNAME:EST
DTSTART:20271107T060000
END:STANDARD
END:VTIMEZONE
BEGIN:VEVENT
DTSTART;TZID=America/New_York:20260421T180000
DTEND;TZID=America/New_York:20260421T190000
DTSTAMP:20260424T113112
CREATED:20251224T043234Z
LAST-MODIFIED:20260226T022116Z
UID:3301-1776794400-1776798000@creative-word.us
SUMMARY:Lima NY -- Releasing The Anointing class -- Elim Bible College
DESCRIPTION:
URL:https://creative-word.us/cw-event/lima-ny-releasing-the-anointing-class-elim-bible-college-14/
ATTACH;FMTTYPE=image/jpeg:https://creative-word.us/wp-content/uploads/2025/02/IMG_1397.jpeg
END:VEVENT
BEGIN:VEVENT
DTSTART;TZID=America/New_York:20260414T180000
DTEND;TZID=America/New_York:20260414T190000
DTSTAMP:20260424T113112
CREATED:20251224T043138Z
LAST-MODIFIED:20260226T022051Z
UID:3299-1776189600-1776193200@creative-word.us
SUMMARY:Lima NY -- Releasing The Anointing class -- Elim Bible College
DESCRIPTION:
URL:https://creative-word.us/cw-event/lima-ny-releasing-the-anointing-class-elim-bible-college-13/
ATTACH;FMTTYPE=image/jpeg:https://creative-word.us/wp-content/uploads/2025/02/IMG_1397.jpeg
END:VEVENT
BEGIN:VEVENT
DTSTART;TZID=America/New_York:20260407T180000
DTEND;TZID=America/New_York:20260407T190000
DTSTAMP:20260424T113112
CREATED:20251224T043047Z
LAST-MODIFIED:20260226T022021Z
UID:3297-1775584800-1775588400@creative-word.us
SUMMARY:Lima NY -- Releasing The Anointing class -- Elim Bible College
DESCRIPTION:
URL:https://creative-word.us/cw-event/lima-ny-releasing-the-anointing-class-elim-bible-college-12/
ATTACH;FMTTYPE=image/jpeg:https://creative-word.us/wp-content/uploads/2025/02/IMG_1397.jpeg
END:VEVENT
BEGIN:VEVENT
DTSTART;TZID=America/New_York:20260331T180000
DTEND;TZID=America/New_York:20260331T190000
DTSTAMP:20260424T113112
CREATED:20251224T042948Z
LAST-MODIFIED:20260226T021924Z
UID:3295-1774980000-1774983600@creative-word.us
SUMMARY:Lima NY -- Releasing The Anointing class -- Elim Bible College
DESCRIPTION:
URL:https://creative-word.us/cw-event/lima-ny-releasing-the-anointing-class-elim-bible-college-11/
ATTACH;FMTTYPE=image/jpeg:https://creative-word.us/wp-content/uploads/2025/02/IMG_1397.jpeg
END:VEVENT
BEGIN:VEVENT
DTSTART;TZID=America/New_York:20260324T180000
DTEND;TZID=America/New_York:20260324T190000
DTSTAMP:20260424T113112
CREATED:20251224T042844Z
LAST-MODIFIED:20260226T021851Z
UID:3293-1774375200-1774378800@creative-word.us
SUMMARY:Lima NY -- Releasing The Anointing class -- Elim Bible College
DESCRIPTION:
URL:https://creative-word.us/cw-event/lima-ny-releasing-the-anointing-class-elim-bible-college-10/
ATTACH;FMTTYPE=image/jpeg:https://creative-word.us/wp-content/uploads/2025/02/IMG_1397.jpeg
END:VEVENT
BEGIN:VEVENT
DTSTART;TZID=America/New_York:20260317T180000
DTEND;TZID=America/New_York:20260317T190000
DTSTAMP:20260424T113112
CREATED:20251224T042756Z
LAST-MODIFIED:20260226T021804Z
UID:3291-1773770400-1773774000@creative-word.us
SUMMARY:Lima NY -- Releasing The Anointing class -- Elim Bible College
DESCRIPTION:
URL:https://creative-word.us/cw-event/lima-ny-releasing-the-anointing-class-elim-bible-college-9/
ATTACH;FMTTYPE=image/jpeg:https://creative-word.us/wp-content/uploads/2025/02/IMG_1397.jpeg
END:VEVENT
BEGIN:VEVENT
DTSTART;VALUE=DATE:20260313
DTEND;VALUE=DATE:20260314
DTSTAMP:20260424T113112
CREATED:20260226T022527Z
LAST-MODIFIED:20260226T022605Z
UID:3312-1773360000-1773446399@creative-word.us
SUMMARY:Lima NY -- Prophetic Presbytery - Elim Bible College
DESCRIPTION:
URL:https://creative-word.us/cw-event/lima-ny-prophetic-presbytery-elim-bible-institute/
ATTACH;FMTTYPE=image/jpeg:https://creative-word.us/wp-content/uploads/2025/02/IMG_1397.jpeg
END:VEVENT
BEGIN:VEVENT
DTSTART;TZID=America/New_York:20260310T180000
DTEND;TZID=America/New_York:20260310T190000
DTSTAMP:20260424T113112
CREATED:20251224T042659Z
LAST-MODIFIED:20260226T021723Z
UID:3289-1773165600-1773169200@creative-word.us
SUMMARY:Lima NY -- Releasing The Anointing class -- Elim Bible College
DESCRIPTION:
URL:https://creative-word.us/cw-event/lima-ny-releasing-the-anointing-class-elim-bible-college-8/
ATTACH;FMTTYPE=image/jpeg:https://creative-word.us/wp-content/uploads/2025/02/IMG_1397.jpeg
END:VEVENT
BEGIN:VEVENT
DTSTART;TZID=America/New_York:20260303T180000
DTEND;TZID=America/New_York:20260303T190000
DTSTAMP:20260424T113112
CREATED:20251224T042601Z
LAST-MODIFIED:20260226T021634Z
UID:3287-1772560800-1772564400@creative-word.us
SUMMARY:Lima NY -- Releasing The Anointing class -- Elim Bible College
DESCRIPTION:
URL:https://creative-word.us/cw-event/lima-ny-releasing-the-anointing-class-elim-bible-college-7/
ATTACH;FMTTYPE=image/jpeg:https://creative-word.us/wp-content/uploads/2025/02/IMG_1397.jpeg
END:VEVENT
BEGIN:VEVENT
DTSTART;TZID=America/New_York:20260223T180000
DTEND;TZID=America/New_York:20260223T190000
DTSTAMP:20260424T113112
CREATED:20251224T042453Z
LAST-MODIFIED:20251224T042453Z
UID:3285-1771869600-1771873200@creative-word.us
SUMMARY:Lima NY -- Releasing The Anointing class -- Elim Bible College
DESCRIPTION:
URL:https://creative-word.us/cw-event/lima-ny-releasing-the-anointing-class-elim-bible-college-6/
ATTACH;FMTTYPE=image/jpeg:https://creative-word.us/wp-content/uploads/2025/02/IMG_1397.jpeg
END:VEVENT
BEGIN:VEVENT
DTSTART;TZID=America/New_York:20260216T180000
DTEND;TZID=America/New_York:20260216T190000
DTSTAMP:20260424T113112
CREATED:20251224T042358Z
LAST-MODIFIED:20251224T042358Z
UID:3283-1771264800-1771268400@creative-word.us
SUMMARY:Lima NY -- Releasing The Anointing class -- Elim Bible College
DESCRIPTION:
URL:https://creative-word.us/cw-event/lima-ny-releasing-the-anointing-class-elim-bible-college-5/
ATTACH;FMTTYPE=image/jpeg:https://creative-word.us/wp-content/uploads/2025/02/IMG_1397.jpeg
END:VEVENT
BEGIN:VEVENT
DTSTART;TZID=America/New_York:20260209T180000
DTEND;TZID=America/New_York:20260209T190000
DTSTAMP:20260424T113112
CREATED:20251224T042249Z
LAST-MODIFIED:20251224T042249Z
UID:3281-1770660000-1770663600@creative-word.us
SUMMARY:Lima NY -- Releasing The Anointing class -- Elim Bible College
DESCRIPTION:
URL:https://creative-word.us/cw-event/lima-ny-releasing-the-anointing-class-elim-bible-college-4/
ATTACH;FMTTYPE=image/jpeg:https://creative-word.us/wp-content/uploads/2025/02/IMG_1397.jpeg
END:VEVENT
BEGIN:VEVENT
DTSTART;TZID=America/New_York:20260202T180000
DTEND;TZID=America/New_York:20260202T190000
DTSTAMP:20260424T113112
CREATED:20251224T042203Z
LAST-MODIFIED:20251224T042203Z
UID:3279-1770055200-1770058800@creative-word.us
SUMMARY:Lima NY -- Releasing The Anointing class -- Elim Bible College
DESCRIPTION:
URL:https://creative-word.us/cw-event/lima-ny-releasing-the-anointing-class-elim-bible-college-3/
ATTACH;FMTTYPE=image/jpeg:https://creative-word.us/wp-content/uploads/2025/02/IMG_1397.jpeg
END:VEVENT
BEGIN:VEVENT
DTSTART;TZID=America/New_York:20260126T180000
DTEND;TZID=America/New_York:20260126T190000
DTSTAMP:20260424T113112
CREATED:20251224T042044Z
LAST-MODIFIED:20251224T042044Z
UID:3277-1769450400-1769454000@creative-word.us
SUMMARY:Lima NY -- Releasing The Anointing class -- Elim Bible College
DESCRIPTION:
URL:https://creative-word.us/cw-event/lima-ny-releasing-the-anointing-class-elim-bible-college-2/
ATTACH;FMTTYPE=image/jpeg:https://creative-word.us/wp-content/uploads/2025/02/IMG_1397.jpeg
END:VEVENT
BEGIN:VEVENT
DTSTART;TZID=America/New_York:20260119T180000
DTEND;TZID=America/New_York:20260119T190000
DTSTAMP:20260424T113112
CREATED:20251224T041816Z
LAST-MODIFIED:20251224T041816Z
UID:3274-1768845600-1768849200@creative-word.us
SUMMARY:Lima NY -- Releasing The Anointing class -- Elim Bible College
DESCRIPTION:6:00-7:00 pm Mondays \nJanuary 19 — May 11
URL:https://creative-word.us/cw-event/lima-ny-releasing-the-anointing-class-elim-bible-college/
ATTACH;FMTTYPE=image/jpeg:https://creative-word.us/wp-content/uploads/2025/02/IMG_1397.jpeg
END:VEVENT
BEGIN:VEVENT
DTSTART;VALUE=DATE:20251206
DTEND;VALUE=DATE:20251207
DTSTAMP:20260424T113112
CREATED:20251204T043510Z
LAST-MODIFIED:20251204T043907Z
UID:3255-1764979200-1765065599@creative-word.us
SUMMARY:Andover NY -- Zion's Hill Ministries Ladies Christmas Celebration
DESCRIPTION:2:00 pm — Ladies Christmas Celebration
URL:https://creative-word.us/cw-event/andover-ny-zions-hill-ministries-ladies-christmas-celebration/
ATTACH;FMTTYPE=image/jpeg:https://creative-word.us/wp-content/uploads/2023/12/ZionsHill-fb.jpeg
END:VEVENT
BEGIN:VEVENT
DTSTART;VALUE=DATE:20251206
DTEND;VALUE=DATE:20251207
DTSTAMP:20260424T113112
CREATED:20251204T044117Z
LAST-MODIFIED:20251204T044146Z
UID:3256-1764979200-1765065599@creative-word.us
SUMMARY:Zoom -- EF Global Missions Meeting on Zoom
DESCRIPTION:Only EF Missionaries – 7:00 am & 7:00 pm
URL:https://creative-word.us/cw-event/zoom-ef-global-missions-meeting-on-zoom/
ATTACH;FMTTYPE=image/png:https://creative-word.us/wp-content/uploads/2019/08/Elim-Fellowship-USA-newlogo.png
END:VEVENT
BEGIN:VEVENT
DTSTART;VALUE=DATE:20251116
DTEND;VALUE=DATE:20251117
DTSTAMP:20260424T113112
CREATED:20251204T045643Z
LAST-MODIFIED:20251204T045849Z
UID:3259-1763251200-1763337599@creative-word.us
SUMMARY:New York Mills NY - Calvary Gospel Church
DESCRIPTION:Sunday Morning Service – 10:30 am
URL:https://creative-word.us/cw-event/new-york-mills-ny-calvary-gospel-church/
ATTACH;FMTTYPE=image/png:https://creative-word.us/wp-content/uploads/2025/12/Calvary-Gospel-Church-cgc-logo.white-950.png
END:VEVENT
BEGIN:VEVENT
DTSTART;VALUE=DATE:20251114
DTEND;VALUE=DATE:20251116
DTSTAMP:20260424T113112
CREATED:20251204T045244Z
LAST-MODIFIED:20251204T045244Z
UID:3258-1763078400-1763251199@creative-word.us
SUMMARY:Utica NY - Life Transformation International Ministries Inc.
DESCRIPTION:Women’s Prophetic Conference & Prophetic Service\n                                 
URL:https://creative-word.us/cw-event/utica-ny-life-transformation-international-ministries-inc/
ATTACH;FMTTYPE=image/avif:https://creative-word.us/wp-content/uploads/2025/12/Life-Transformation-International-Ministries-Inc.-white-logo-ltim_PNG.avif
END:VEVENT
BEGIN:VEVENT
DTSTART;VALUE=DATE:20251107
DTEND;VALUE=DATE:20251110
DTSTAMP:20260424T113112
CREATED:20250929T180009Z
LAST-MODIFIED:20251002T020559Z
UID:3200-1762473600-1762732799@creative-word.us
SUMMARY:2025 Northeast Regional Retreat
DESCRIPTION: 
URL:https://creative-word.us/cw-event/2025-northeast-regional-retreat/
LOCATION:Watson Homestead\, 9620 Dry Run Rd\, Painted Post\, NY\, 14870\, United States
CATEGORIES:Retreats
ATTACH;FMTTYPE=image/jpeg:https://creative-word.us/wp-content/uploads/2025/09/25-1510-MAIN-ORDER-FINAL.jpg
END:VEVENT
BEGIN:VEVENT
DTSTART;TZID=America/New_York:20251105T110000
DTEND;TZID=America/New_York:20251105T120000
DTSTAMP:20260424T113112
CREATED:20251204T044419Z
LAST-MODIFIED:20251204T044419Z
UID:3257-1762340400-1762344000@creative-word.us
SUMMARY:Lima NY -- EBC - Chapel - Ladies Group - 11:00
DESCRIPTION:
URL:https://creative-word.us/cw-event/lima-ny-ebc-chapel-ladies-group-1100/
ATTACH;FMTTYPE=image/jpeg:https://creative-word.us/wp-content/uploads/2025/02/IMG_1397.jpeg
END:VEVENT
BEGIN:VEVENT
DTSTART;VALUE=DATE:20251021
DTEND;VALUE=DATE:20251025
DTSTAMP:20260424T113112
CREATED:20251004T151304Z
LAST-MODIFIED:20251004T151447Z
UID:3233-1761004800-1761350399@creative-word.us
SUMMARY:Lima NY -- Missions Conference. Elim Bible College
DESCRIPTION:
URL:https://creative-word.us/cw-event/lima-ny-missions-conference-elim-bible-college/
LOCATION:Elim Bible College\, 7245 College St.\, Lima\, NY\, 14485\, United States
ATTACH;FMTTYPE=image/jpeg:https://creative-word.us/wp-content/uploads/2025/02/IMG_1397.jpeg
END:VEVENT
BEGIN:VEVENT
DTSTART;VALUE=DATE:20251018
DTEND;VALUE=DATE:20251020
DTSTAMP:20260424T113112
CREATED:20250930T020651Z
LAST-MODIFIED:20251002T020648Z
UID:3203-1760745600-1760918399@creative-word.us
SUMMARY:50th Anniversary Celebration for Creative Word Ministries
DESCRIPTION:  \n \n 
URL:https://creative-word.us/cw-event/50th-anniversary-celebration-for-creative-word-ministries/
ATTACH;FMTTYPE=image/jpeg:https://creative-word.us/wp-content/uploads/2025/09/CWM-50th.jpg
END:VEVENT
BEGIN:VEVENT
DTSTART;VALUE=DATE:20251007
DTEND;VALUE=DATE:20251008
DTSTAMP:20260424T113112
CREATED:20251004T150956Z
LAST-MODIFIED:20251004T150956Z
UID:3230-1759795200-1759881599@creative-word.us
SUMMARY:Lima NY -- Global Missions Committee Meeting. Elim Fellowship
DESCRIPTION:
URL:https://creative-word.us/cw-event/lima-ny-global-missions-committee-meeting-elim-fellowship/
LOCATION:Elim Fellowship\, 1701 Dalton Rd\, Lima\, NY\, 14485\, United States
ATTACH;FMTTYPE=image/png:https://creative-word.us/wp-content/uploads/2019/08/Elim-Fellowship-USA-newlogo.png
END:VEVENT
END:VCALENDAR